BEGIN:VCALENDAR
VERSION:2.0
PRODID:-//Capital Region Small Business Week - ECPv6.15.17.1//NONSGML v1.0//EN
CALSCALE:GREGORIAN
METHOD:PUBLISH
X-WR-CALNAME:Capital Region Small Business Week
X-ORIGINAL-URL:https://capitalregionsmallbusinessweek.org
X-WR-CALDESC:Events for Capital Region Small Business Week
REFRESH-INTERVAL;VALUE=DURATION:PT1H
X-Robots-Tag:noindex
X-PUBLISHED-TTL:PT1H
BEGIN:VTIMEZONE
TZID:America/Los_Angeles
BEGIN:DAYLIGHT
TZOFFSETFROM:-0800
TZOFFSETTO:-0700
TZNAME:PDT
DTSTART:20250309T100000
END:DAYLIGHT
BEGIN:STANDARD
TZOFFSETFROM:-0700
TZOFFSETTO:-0800
TZNAME:PST
DTSTART:20251102T090000
END:STANDARD
BEGIN:DAYLIGHT
TZOFFSETFROM:-0800
TZOFFSETTO:-0700
TZNAME:PDT
DTSTART:20260308T100000
END:DAYLIGHT
BEGIN:STANDARD
TZOFFSETFROM:-0700
TZOFFSETTO:-0800
TZNAME:PST
DTSTART:20261101T090000
END:STANDARD
BEGIN:DAYLIGHT
TZOFFSETFROM:-0800
TZOFFSETTO:-0700
TZNAME:PDT
DTSTART:20270314T100000
END:DAYLIGHT
BEGIN:STANDARD
TZOFFSETFROM:-0700
TZOFFSETTO:-0800
TZNAME:PST
DTSTART:20271107T090000
END:STANDARD
END:VTIMEZONE
BEGIN:VEVENT
DTSTART;TZID=America/Los_Angeles:20260505T173000
DTEND;TZID=America/Los_Angeles:20260505T193000
DTSTAMP:20260419T103627
CREATED:20260318T165111Z
LAST-MODIFIED:20260318T165114Z
UID:1167-1778002200-1778009400@capitalregionsmallbusinessweek.org
SUMMARY:From Idea to Action: A Startup Workshop for Aspiring Entrepreneurs
DESCRIPTION:A practical\, beginner-friendly workshop for aspiring entrepreneurs ready to move from idea to action. Learn how to clarify your concept\, take first steps toward testing it\, hear from a local founder\, and connect with others exploring entrepreneurship. 
URL:https://capitalregionsmallbusinessweek.org/event/from-idea-to-action-a-startup-workshop-for-aspiring-entrepreneurs/
LOCATION:Roseville Venture Lab\, 316 Vernon St.\, STE 110\, Roseville\, California\, 95678
ATTACH;FMTTYPE=image/png:https://capitalregionsmallbusinessweek.org/wp-content/uploads/2026/03/Mentor-Sprint-7.png
END:VEVENT
BEGIN:VEVENT
DTSTART;TZID=America/Los_Angeles:20260505T090000
DTEND;TZID=America/Los_Angeles:20260505T150000
DTSTAMP:20260419T103627
CREATED:20260331T211319Z
LAST-MODIFIED:20260331T211322Z
UID:1186-1777971600-1777993200@capitalregionsmallbusinessweek.org
SUMMARY:The Stuff of Legacy: BBB of Northeast California's 2026 Women's Conference
DESCRIPTION:The BBB Serving Sacramento & Northeast California’s annual conference brings our region’s women professionals and business owners together\, while also answering “How’d she do it?” behind the accomplishments of those shaping business\, our community\, and everything that comes next. \n\n\n\nJoin the Better Business Bureau of Northeast California for a unique and powerful day of learning\, inspiration\, and connection during Capital Region Small Business Week.From national leadership to local changemakers\, this year’s program is about the legacies we inherit\, the impact we create\, and the future we build together. \n\n\n\n\nKeynote: Rebekah Dopp\, CEO of the International Association of Better Business Bureaus\n\n\n\n“The Emotional Side of Money” with Tari Vickery\n\n\n\nWomen\, Work\, and What’s Next: A fireside chat on parity\, progress\, and what’s next\n\n\n\nTrailblazers: A panel of local women living bold\, unconventional lives\n\n\n\nCreative Inlets & Outlets: A panel to share how we can all better harness imagination in the workplace\n\n\n\nPurpose Beyond Profit: Business philanthropy in action in the Greater Sacramento Region and how you can get involved\n\n\n\nEmerging Leaders: Gold Award Girl Scouts – Heart of Central California creating real community impact\n\n\n\nBreaking with Tradition: The Unconventional Career: Forging your own way in underrepresented spaces\n\n\n\n\nWe’ll close with reflections from retiring BBB CEO Lynn Conner\, honoring leadership and the power of legacy. \n\n\n\nRegistration includes a box lunch and the opportunity to meet and shop with local small business vendors during the Women’s Business Center’s Pop-Up Shop.
URL:https://capitalregionsmallbusinessweek.org/event/the-stuff-of-legacy-bbb-of-northeast-californias-2026-womens-conference-2/
LOCATION:Citrus Heights Event Center\, 6300 Fountain Square Dr\, Citrus Heights\, California\, 95621
ATTACH;FMTTYPE=image/png:https://capitalregionsmallbusinessweek.org/wp-content/uploads/2026/03/Mentor-Sprint-4.png
END:VEVENT
BEGIN:VEVENT
DTSTART;TZID=America/Los_Angeles:20260504T130000
DTEND;TZID=America/Los_Angeles:20260504T160000
DTSTAMP:20260419T103627
CREATED:20260417T234859Z
LAST-MODIFIED:20260417T234904Z
UID:1200-1777899600-1777910400@capitalregionsmallbusinessweek.org
SUMMARY:Capital Region Small Business Week’s Resource Expo
DESCRIPTION:Capital Region Small Business Week’s Resource Expo will provide an opportunity for business owners and aspiring entrepreneurs to connect with organizations that offer valuable resources and support. Support organizations will be stationed at tables throughout the event\, where attendees will be able to speak directly with representatives about their programs\, services\, and opportunities. Organizations that support aspiring entrepreneurs\, startup founders\, and small business owners are invited to have a table at the event. If your organization would like a table\, please complete this application. Please sign up as soon as possible\, as space may be limited.
URL:https://capitalregionsmallbusinessweek.org/event/capital-region-small-business-weeks-resource-expo/
ATTACH;FMTTYPE=image/png:https://capitalregionsmallbusinessweek.org/wp-content/uploads/2026/04/crsbw-events-website-2.png
END:VEVENT
END:VCALENDAR