BEGIN:VCALENDAR
VERSION:2.0
PRODID:-//Capital Region Small Business Week - ECPv6.15.17.1//NONSGML v1.0//EN
CALSCALE:GREGORIAN
METHOD:PUBLISH
X-WR-CALNAME:Capital Region Small Business Week
X-ORIGINAL-URL:https://capitalregionsmallbusinessweek.org
X-WR-CALDESC:Events for Capital Region Small Business Week
REFRESH-INTERVAL;VALUE=DURATION:PT1H
X-Robots-Tag:noindex
X-PUBLISHED-TTL:PT1H
BEGIN:VTIMEZONE
TZID:America/Los_Angeles
BEGIN:DAYLIGHT
TZOFFSETFROM:-0800
TZOFFSETTO:-0700
TZNAME:PDT
DTSTART:20250309T100000
END:DAYLIGHT
BEGIN:STANDARD
TZOFFSETFROM:-0700
TZOFFSETTO:-0800
TZNAME:PST
DTSTART:20251102T090000
END:STANDARD
BEGIN:DAYLIGHT
TZOFFSETFROM:-0800
TZOFFSETTO:-0700
TZNAME:PDT
DTSTART:20260308T100000
END:DAYLIGHT
BEGIN:STANDARD
TZOFFSETFROM:-0700
TZOFFSETTO:-0800
TZNAME:PST
DTSTART:20261101T090000
END:STANDARD
BEGIN:DAYLIGHT
TZOFFSETFROM:-0800
TZOFFSETTO:-0700
TZNAME:PDT
DTSTART:20270314T100000
END:DAYLIGHT
BEGIN:STANDARD
TZOFFSETFROM:-0700
TZOFFSETTO:-0800
TZNAME:PST
DTSTART:20271107T090000
END:STANDARD
END:VTIMEZONE
BEGIN:VEVENT
DTSTART;TZID=America/Los_Angeles:20260506T083000
DTEND;TZID=America/Los_Angeles:20260506T100000
DTSTAMP:20260425T032617
CREATED:20260309T202748Z
LAST-MODIFIED:20260320T183825Z
UID:1143-1778056200-1778061600@capitalregionsmallbusinessweek.org
SUMMARY:1 Million Cups Sacramento
DESCRIPTION:1 Million Cups is a weekly gathering where entrepreneurs share early-stage business ideas and receive feedback from a supportive community of founders\, mentors\, and business professionals. Each session features two short presentations followed by open discussion\, offering a chance to learn\, connect\, and help local startups grow.  
URL:https://capitalregionsmallbusinessweek.org/event/1-million-cups-sacramento/
LOCATION:Carlsen Center at Sacramento State University\, 6000 J Street\, Sacramento\, CA\, 95819
ATTACH;FMTTYPE=image/png:https://capitalregionsmallbusinessweek.org/wp-content/uploads/2026/03/Untitled-design-62.png
END:VEVENT
BEGIN:VEVENT
DTSTART;TZID=America/Los_Angeles:20260506T104500
DTEND;TZID=America/Los_Angeles:20260506T123000
DTSTAMP:20260425T032617
CREATED:20260302T180116Z
LAST-MODIFIED:20260320T184033Z
UID:1121-1778064300-1778070600@capitalregionsmallbusinessweek.org
SUMMARY:Mentor Sprint
DESCRIPTION:Mentor Sprint is a high-energy speed-mentoring event designed to connect early-stage entrepreneurs and small business owners with experienced mentors for actionable guidance and feedback. As part of Capital Region Small Business Week\, participants engage in focused 15-minute\, one-on-one sessions to gain fresh insights\, expand their network\, and walk away with new ideas and resources in just 90 minutes. The event is organized by the Carlsen Center for Innovation & Entrepreneurship and StartupSac.
URL:https://capitalregionsmallbusinessweek.org/event/mentor-sprint/
LOCATION:Carlsen Center at Sacramento State University\, 6000 J Street\, Sacramento\, CA\, 95819
ATTACH;FMTTYPE=image/png:https://capitalregionsmallbusinessweek.org/wp-content/uploads/2026/03/Mentor-Sprint-8.png
END:VEVENT
BEGIN:VEVENT
DTSTART;TZID=America/Los_Angeles:20260506T110000
DTEND;TZID=America/Los_Angeles:20260506T140000
DTSTAMP:20260425T032617
CREATED:20260326T173656Z
LAST-MODIFIED:20260326T173942Z
UID:1177-1778065200-1778076000@capitalregionsmallbusinessweek.org
SUMMARY:Capital Region Small Business Awards
DESCRIPTION:Join us for the Capital Region Small Business Awards\, a distinguished luncheon and business expo honoring the exceptional achievements of small business owners.
URL:https://capitalregionsmallbusinessweek.org/event/capital-region-small-business-awards/
LOCATION:Sacramento Memorial Auditorium\, 1515 J Street\, Sacramento\, California\, 95814
ATTACH;FMTTYPE=image/png:https://capitalregionsmallbusinessweek.org/wp-content/uploads/2026/03/SBA-Awards.png
END:VEVENT
BEGIN:VEVENT
DTSTART;TZID=America/Los_Angeles:20260506T133000
DTEND;TZID=America/Los_Angeles:20260506T163000
DTSTAMP:20260425T032617
CREATED:20260309T215615Z
LAST-MODIFIED:20260309T215655Z
UID:1149-1778074200-1778085000@capitalregionsmallbusinessweek.org
SUMMARY:AI Career Pathways Workshop
DESCRIPTION:​In celebration of Capital Region Small Business Week 2026\, NAWBO and the Carlsen Center for Innovation & Entrepreneurship are teaming up to host the AI Career Pathways Workshop. Discover in-demand AI careers\, emerging roles\, essential skills\, and tools through real-world examples. Network with students\, professionals\, and career changers exploring what’s next in tech and career advancement.
URL:https://capitalregionsmallbusinessweek.org/event/ai-career-pathways-workshop-2/
LOCATION:Carlsen Center at Sacramento State University\, 6000 J Street\, Sacramento\, CA\, 95819
ATTACH;FMTTYPE=image/png:https://capitalregionsmallbusinessweek.org/wp-content/uploads/2026/03/Untitled-design-63.png
END:VEVENT
BEGIN:VEVENT
DTSTART;TZID=America/Los_Angeles:20260506T183000
DTEND;TZID=America/Los_Angeles:20260506T200000
DTSTAMP:20260425T032617
CREATED:20260406T030919Z
LAST-MODIFIED:20260422T190518Z
UID:1190-1778092200-1778097600@capitalregionsmallbusinessweek.org
SUMMARY:How Small Businesses Win Government Contracts: What Nobody Tells You About Getting Paid by the Government
DESCRIPTION:Join VETS Sacramento for a practical workshop during Capital Region Small Business Week\, Powered by SMUD. \n\n\n\nMost small businesses never win a government contract. Not because they’re not qualified. Because nobody told them how the game actually works. This session covers the realities that don’t always get discussed: why contracts are often decided before the RFP ever drops\, which certifications allow agencies to skip competitive bidding and buy directly from you\, and how to build the relationships that actually move the needle. You’ll hear directly from small business owners who have been through the process and experts who know the system inside and out. \n\n\n\nWhether you’re brand new to government contracting or exploring it as a growth strategy\, you’ll walk away with a clear playbook and a next step you can take the very next day. \n\n\n\nFree to attend. Seating is limited.
URL:https://capitalregionsmallbusinessweek.org/event/funding-the-mission-how-to-find-capital-for-your-business/
LOCATION:Frequency Coworking & Events\, 3249 Quality Dr\, Rancho Cordova\, California\, 95670
ATTACH;FMTTYPE=image/png:https://capitalregionsmallbusinessweek.org/wp-content/uploads/2026/04/crsbw-events-website-1.png
END:VEVENT
END:VCALENDAR